BEGIN:VCALENDAR
VERSION:2.0
PRODID:-//Consorzio Pro Loco Alto Astico e Posina - ECPv6.14.0//NONSGML v1.0//EN
CALSCALE:GREGORIAN
METHOD:PUBLISH
X-WR-CALNAME:Consorzio Pro Loco Alto Astico e Posina
X-ORIGINAL-URL:https://consorzioprolocoaap.it
X-WR-CALDESC:Eventi per Consorzio Pro Loco Alto Astico e Posina
REFRESH-INTERVAL;VALUE=DURATION:PT1H
X-Robots-Tag:noindex
X-PUBLISHED-TTL:PT1H
BEGIN:VTIMEZONE
TZID:Europe/Rome
BEGIN:DAYLIGHT
TZOFFSETFROM:+0100
TZOFFSETTO:+0200
TZNAME:CEST
DTSTART:20260329T010000
END:DAYLIGHT
BEGIN:STANDARD
TZOFFSETFROM:+0200
TZOFFSETTO:+0100
TZNAME:CET
DTSTART:20261025T010000
END:STANDARD
END:VTIMEZONE
BEGIN:VEVENT
DTSTART;TZID=Europe/Rome:20260423T203000
DTEND;TZID=Europe/Rome:20260425T110000
DTSTAMP:20260424T004722
CREATED:20260420T201224Z
LAST-MODIFIED:20260420T201224Z
UID:944-1776976200-1777114800@consorzioprolocoaap.it
SUMMARY:25 Aprile Arsiero - Velo d'Astico
DESCRIPTION:81° ANNIVERSARIO DELLA LIBERAZIONE NAZIONALE
URL:https://consorzioprolocoaap.it/evento/25-aprile-arsiero-velo-dastico/
LOCATION:Arsiero\, Arsiero\, Vicenza\, Italy
CATEGORIES:Attività culturali,Feste e festività
ATTACH;FMTTYPE=image/jpeg:https://consorzioprolocoaap.it/wp-content/uploads/2026/04/25-aprile-Arsiero-Velo.jpeg
END:VEVENT
END:VCALENDAR