BEGIN:VCALENDAR
VERSION:2.0
PRODID:-//Consorzio Pro Loco Alto Astico e Posina - ECPv6.14.0//NONSGML v1.0//EN
CALSCALE:GREGORIAN
METHOD:PUBLISH
X-WR-CALNAME:Consorzio Pro Loco Alto Astico e Posina
X-ORIGINAL-URL:https://consorzioprolocoaap.it
X-WR-CALDESC:Eventi per Consorzio Pro Loco Alto Astico e Posina
REFRESH-INTERVAL;VALUE=DURATION:PT1H
X-Robots-Tag:noindex
X-PUBLISHED-TTL:PT1H
BEGIN:VTIMEZONE
TZID:Europe/Rome
BEGIN:DAYLIGHT
TZOFFSETFROM:+0100
TZOFFSETTO:+0200
TZNAME:CEST
DTSTART:20250330T010000
END:DAYLIGHT
BEGIN:STANDARD
TZOFFSETFROM:+0200
TZOFFSETTO:+0100
TZNAME:CET
DTSTART:20251026T010000
END:STANDARD
END:VTIMEZONE
BEGIN:VEVENT
DTSTART;TZID=Europe/Rome:20251108T173000
DTEND;TZID=Europe/Rome:20251109T173000
DTSTAMP:20260420T045135
CREATED:20251026T214110Z
LAST-MODIFIED:20251026T214110Z
UID:818-1762623000-1762709400@consorzioprolocoaap.it
SUMMARY:Antica Sagra de San Martin
DESCRIPTION:SABATO 8 NOVEMBRE presso Villa Velo\nore 17.30 SANTA MESSA Di RiNGRAZiAMENTO e benedizione mezzi agricoll \nore 18.30 Partenza TRATTORI SOTTO LE STELLE per le vie di Velo d’Astico \nоге 19.30 Apertura MUSEO AGRICOLO \nAperitivo in compagnia \nPremiazione SAN MARTINO PHOTO CONTEST \nore 20.30 Una serata con DAViDE GOMIERO \ndella Gomiero Farm racconti\, avventure\, interviste e molto altro \nLa serata continua con DJ GIBO ROMAN\, CASTAGNE E VIN NOVO \nDOMENICA 9 NOVEMBRE\nore 9.00 Ritrovo trattori a Velo d’Astico presso Giorgio’s special guest DAVIDE GOMIERO \nore 10.00  BANCARELLE İN PİAZZA \nin collaborazione con \nAss.ne “NSV Organizzazione Eventi” mostra mercato\, esposizione e vendita di prodotti agricoli\, artigianali e hobbistica\, dimostrazioni varie per i ragazzi con giochi per bambini e curiosità per gli adulti. \nEsposizione dei trattori d’epoca. \nore 11.30 SFILATA DEI TRATTORİ A PEDALi riservata ai bambini (accompagnati) SFİLATA DEİ MEZZİ AGRİCOLİ \nin piazza e benedizione in movimento \nore 12.00 Apertura stand gastronomico in Piazza IV Novembre PiATTi DE NA VOLTA + PiATTO SPECIALE TRiPPE \nore 12.30 Premiazione FANTASiE Di SAN MARTINO disegni dei bambini della Scuola Primaria di Velo \nore 14.00 Grande MARONADA caldarroste e vin brulè per tutti!! Canti con LUCA BAZ – Mi chiamo Luca\, ho 23 anni e attraverso i social racconto una grande tradizione\, nonché mia passione: il Canto di Montagna \nore 16.00 TiRO AL TRATTORE Gara a cronometro con la fune a coppie\, aperta a tutti\, premio ai primi tre classificati \nore 17.00 Radio S.B.O.R.O. \n  \nEsposizione fotografica\n• SAN MARTINO PHOTO CONTEST \n• FANTASIE Di SAN MARTINO esposizione disegni dei bambini della Scuola Primaria “A. Fusinato” di Velo
URL:https://consorzioprolocoaap.it/evento/antica-sagra-de-san-martin/
LOCATION:Velo d’Astico\, Velo d'Astico\, Vicenza\, Italy
CATEGORIES:Enogastronomia,Feste e festività,Fiere
ATTACH;FMTTYPE=image/jpeg:https://consorzioprolocoaap.it/wp-content/uploads/2025/10/San-Martin-2025.jpeg
ORGANIZER;CN="Pro Loco Velo d'Astico":MAILTO:prolocovelo@gmail.com
END:VEVENT
END:VCALENDAR