BEGIN:VCALENDAR
VERSION:2.0
PRODID:-//Consorzio Pro Loco Alto Astico e Posina - ECPv6.14.0//NONSGML v1.0//EN
CALSCALE:GREGORIAN
METHOD:PUBLISH
X-WR-CALNAME:Consorzio Pro Loco Alto Astico e Posina
X-ORIGINAL-URL:https://consorzioprolocoaap.it
X-WR-CALDESC:Eventi per Consorzio Pro Loco Alto Astico e Posina
REFRESH-INTERVAL;VALUE=DURATION:PT1H
X-Robots-Tag:noindex
X-PUBLISHED-TTL:PT1H
BEGIN:VTIMEZONE
TZID:Europe/Rome
BEGIN:DAYLIGHT
TZOFFSETFROM:+0100
TZOFFSETTO:+0200
TZNAME:CEST
DTSTART:20250330T010000
END:DAYLIGHT
BEGIN:STANDARD
TZOFFSETFROM:+0200
TZOFFSETTO:+0100
TZNAME:CET
DTSTART:20251026T010000
END:STANDARD
END:VTIMEZONE
BEGIN:VEVENT
DTSTART;VALUE=DATE:20251214
DTEND;VALUE=DATE:20251215
DTSTAMP:20260420T023048
CREATED:20251014T192010Z
LAST-MODIFIED:20251014T192010Z
UID:794-1765670400-1765756799@consorzioprolocoaap.it
SUMMARY:Mercatini di Natale Lago di Braves e San Candido
DESCRIPTION:DOMENICA 14 DICEMBRE 2025 \nFERMATE \nOre 07.00 PIOVENE ROCCHETTE – PIAZZALE DEGLI ALPINI \nOre 07.20 ARSIERO – VIGNETTA \nOre 07.45 VALDASTICO – PONTE MASO \nOre 08\,00 LASTEBASSE – PIAZZA \nRitrovo dei Signori Partecipanti e partenza in autopullman Gran Turismo\, via Fricca. \nArrivo al Lago Di Braies\, perla delle Dolomiti\, famoso per i suoi paesaggi invernali unici\, come il lago ghiacciato e i sentieri circondati dalla neve. \nPasseggiata libera per catturare gli attimi più belli e respirare l’aria magica del suggestivo luogo.. \nAvvio alla cittadina di San Candido\, essa offre artigianato locale\, specialità gastronomiche e un’atmosfera natalizia suggestiva\, con i suoi caratteristici Mercatini di Natale in cui si potrà respirare il delizioso profumo dei biscotti al panpepato\, del Zelten\, del vin brulè e del té bollente\, e ammirare gli artistici banchetti decorati. \nDurante l ‘escursione… Pranzo libero \nNel tardo pomeriggio avvio per il rientro alle località di partenza. \nQUOTA INDIVIDUALE €. 50.00 \nCon un minimo 30 partecipanti \n\nLA QUOTA COMPRENDE:\nIl viaggio in autopullman GT come da programma\nLA QUOTA NON COMPRENDE:\nLe mance e tutto quanto non indicato nel “Comprende”\nINFORMAZIONI E ADESIONI :\n\nPICCININI GIULIO – Lastebasse – 371 3330050 \nADESIONI FINO AD ESAURIMENTO POSTI
URL:https://consorzioprolocoaap.it/evento/mercatini-di-natale-lago-di-braves-e-san-candido/
CATEGORIES:Escursioni,Gita
ATTACH;FMTTYPE=image/jpeg:https://consorzioprolocoaap.it/wp-content/uploads/2025/10/mercatini-di-Natala-Lastebasse.jpeg
ORGANIZER;CN="Pro Loco Lastebasse":MAILTO:prolocolastebasse@hotmail.it
END:VEVENT
END:VCALENDAR