BEGIN:VCALENDAR
VERSION:2.0
PRODID:-//Consorzio Pro Loco Alto Astico e Posina - ECPv6.14.0//NONSGML v1.0//EN
CALSCALE:GREGORIAN
METHOD:PUBLISH
X-WR-CALNAME:Consorzio Pro Loco Alto Astico e Posina
X-ORIGINAL-URL:https://consorzioprolocoaap.it
X-WR-CALDESC:Eventi per Consorzio Pro Loco Alto Astico e Posina
REFRESH-INTERVAL;VALUE=DURATION:PT1H
X-Robots-Tag:noindex
X-PUBLISHED-TTL:PT1H
BEGIN:VTIMEZONE
TZID:Europe/Rome
BEGIN:DAYLIGHT
TZOFFSETFROM:+0100
TZOFFSETTO:+0200
TZNAME:CEST
DTSTART:20250330T010000
END:DAYLIGHT
BEGIN:STANDARD
TZOFFSETFROM:+0200
TZOFFSETTO:+0100
TZNAME:CET
DTSTART:20251026T010000
END:STANDARD
END:VTIMEZONE
BEGIN:VEVENT
DTSTART;TZID=Europe/Rome:20251128T180000
DTEND;TZID=Europe/Rome:20251130T190000
DTSTAMP:20260420T023141
CREATED:20251117T211327Z
LAST-MODIFIED:20251117T211327Z
UID:832-1764352800-1764529200@consorzioprolocoaap.it
SUMMARY:Christmas Train
DESCRIPTION:
URL:https://consorzioprolocoaap.it/evento/christmas-train/
LOCATION:VIA OLMO COGOLLO DEL CENGIO\, Via Olmo\, Cogollo del Cengio\, Italy
CATEGORIES:Enogastronomia,Mercatini di Natale
ATTACH;FMTTYPE=image/jpeg:https://consorzioprolocoaap.it/wp-content/uploads/2025/11/Christmas-Train-2025.jpg
ORGANIZER;CN="Pro Loco Cogollo del Cengio":MAILTO:proloco.cogollodelcengio@gmail.com
END:VEVENT
END:VCALENDAR