BEGIN:VCALENDAR
VERSION:2.0
PRODID:-//Consorzio Pro Loco Alto Astico e Posina - ECPv6.14.0//NONSGML v1.0//EN
CALSCALE:GREGORIAN
METHOD:PUBLISH
X-ORIGINAL-URL:https://consorzioprolocoaap.it
X-WR-CALDESC:Eventi per Consorzio Pro Loco Alto Astico e Posina
REFRESH-INTERVAL;VALUE=DURATION:PT1H
X-Robots-Tag:noindex
X-PUBLISHED-TTL:PT1H
BEGIN:VTIMEZONE
TZID:Europe/Rome
BEGIN:DAYLIGHT
TZOFFSETFROM:+0100
TZOFFSETTO:+0200
TZNAME:CEST
DTSTART:20250330T010000
END:DAYLIGHT
BEGIN:STANDARD
TZOFFSETFROM:+0200
TZOFFSETTO:+0100
TZNAME:CET
DTSTART:20251026T010000
END:STANDARD
BEGIN:DAYLIGHT
TZOFFSETFROM:+0100
TZOFFSETTO:+0200
TZNAME:CEST
DTSTART:20260329T010000
END:DAYLIGHT
BEGIN:STANDARD
TZOFFSETFROM:+0200
TZOFFSETTO:+0100
TZNAME:CET
DTSTART:20261025T010000
END:STANDARD
END:VTIMEZONE
BEGIN:VEVENT
DTSTART;TZID=Europe/Rome:20260418T150000
DTEND;TZID=Europe/Rome:20260419T183000
DTSTAMP:20260419T212625
CREATED:20260403T061600Z
LAST-MODIFIED:20260403T061600Z
UID:922-1776524400-1776623400@consorzioprolocoaap.it
SUMMARY:Festa di primavera
DESCRIPTION:SABATO 18 APRILE: \nIN CERCA DI ERBE SPONTANEE con Antonio e Lisa Cantele\, partenza ore 15\, e a seguire assaggini vari. Prenotazioni Whatsapp 340 7172572 \nBIRRIFICI IN PIAZZA dalle 18:00 \nApertura stand gastronomico 19:00 \ndalle 21:00 Dj Siry\, DrumBlood & Lorenz \nDOMENICA 19 APRILE ORE 9.00: \nAPERTURA MERCATO \n\nPRODOTTI AGRICOLI LOCALI e di MONTAGNA\nPIANTINE DA ORTO\nSEMENTI\nFIORi\nATTREZZATURA DA GIARDINAGGIO\n\nDOMENICA INOLTRE: \n\nASINI IN CAMMINO\, passeggiate per bambini\nMOSTRE FOTOGRAFICHE\nMOSTRA DI ATTREZZI AGRICOLI e CASALINGHI\nSCAMBIO SEMI ANTICHI\nLABORATORI PER BAMBINI E NON: cucina\, cesteria\, tessitura e tanto altro!\nGIOCHI GIROVAGHI i zughi de ‘na volta\nPesca di beneficenza\n\nSANTA MESSA ore 10:45 \nRICCO STAND GASTRONOMICO a partire dalle 11:00\, specialità gnocchi e birre artigianali \nOre 15.00 : Mc NANDO CONCERT \nPOSINALAND \nPASSEGGIATA GUIDATA con POSINALAND circa 8km\, 4 ore. Partenza in due turni\, ore 9 e ore 14 dalla piazza Previsto un ristoro\, quota di partecipazione 10€. Prenotazioni entro il 18 Aprile al n. 340 958 4056 \nL’organizzazione declina ogni responsabilità per eventuali danni a cose e persone.
URL:https://consorzioprolocoaap.it/evento/festa-di-primavera/
LOCATION:Laghi\, Laghi\, Vicenza\, Italy
CATEGORIES:Escursioni,Mercatini,Musica
ATTACH;FMTTYPE=image/jpeg:https://consorzioprolocoaap.it/wp-content/uploads/2026/04/festa-di-primavera-laghi-26.jpeg
END:VEVENT
BEGIN:VEVENT
DTSTART;TZID=Europe/Rome:20260104T170000
DTEND;TZID=Europe/Rome:20260104T183000
DTSTAMP:20260419T212625
CREATED:20251228T170523Z
LAST-MODIFIED:20251228T170523Z
UID:879-1767546000-1767551400@consorzioprolocoaap.it
SUMMARY:Coro Sant'Ubaldo
DESCRIPTION:domenica 4 gennaio alle ore 17.00 \npresso la Chiesa di Santa Maria Assunta di Pedemonte
URL:https://consorzioprolocoaap.it/evento/coro-santubaldo/
LOCATION:Pedemonte\, via brancafora 8\, Pedemonte\, 36040\, Italy
CATEGORIES:Attività culturali,Musica
ATTACH;FMTTYPE=image/jpeg:https://consorzioprolocoaap.it/wp-content/uploads/2025/12/coro-san-ubaldo-4-gennaio.jpeg
ORGANIZER;CN="Pro Loco Pedemonte":MAILTO:prolocopedemonte@gmail.com
END:VEVENT
BEGIN:VEVENT
DTSTART;TZID=Europe/Rome:20251221T153000
DTEND;TZID=Europe/Rome:20251221T180000
DTSTAMP:20260419T212625
CREATED:20251125T211011Z
LAST-MODIFIED:20251125T211011Z
UID:839-1766331000-1766340000@consorzioprolocoaap.it
SUMMARY:Natale in piazza
DESCRIPTION:ORE 15.30 CONCERTO del gruppo vocale femminile Just Melody dall’ ALTOPIANO DELLA VIGOLANA NELLA CHIESA DI LASTEBASSE \nORE 16.30 APERTURA DEL PRESEPIO e per i più piccoli arriva… \nBABBO NATALE \nORE 17.30 Estrazione della “RICCA LOTTERIA” \nVi aspettiamo dopo il concerto con cioccolata calda\, vin brulé e dolci nella sala comunale
URL:https://consorzioprolocoaap.it/evento/natale-in-piazza/
LOCATION:Lastebasse\, Lastebasse\, Vicenza\, Italy
CATEGORIES:Feste e festività,Musica
ATTACH;FMTTYPE=image/jpeg:https://consorzioprolocoaap.it/wp-content/uploads/2025/11/Natale-in-Piazza-Lastebasse.jpeg
ORGANIZER;CN="Pro Loco Lastebasse":MAILTO:prolocolastebasse@hotmail.it
END:VEVENT
BEGIN:VEVENT
DTSTART;TZID=Europe/Rome:20251208T160000
DTEND;TZID=Europe/Rome:20251208T180000
DTSTAMP:20260419T212625
CREATED:20251125T210637Z
LAST-MODIFIED:20251125T210637Z
UID:836-1765209600-1765216800@consorzioprolocoaap.it
SUMMARY:Concerto... aspettando il Natale
DESCRIPTION:LUNEDÌ 8 DICEMBRE 2025 – ore 16.00 \nChiesa Parrocchiale S. Margherita – POSINA \n  \nGABRIELE DE Rosso – Violoncello \nHA CONSEGUITO IL DIPLOMA ACCADEMICO DI PRIMO LIVELLO PRESSO IL CONSERVATORIO F.A. BONPORTI DI TRENTO NEL LUGLIO 2024\, \nSTA COMPLETANDO IL BIENNIO DI VIOLONCELLO A TRENTO. \nALDO VINDIMIAN – Violino \nMUSICISTA POLIEDRICO\, LAUREATO AL CONSERVATORIO DI TRENTO. \nPRIMO VIOLINO DEL QUARTETTO ALTERNATIVO TRENTINO; \nÈ DOCENTE DI VIOLINO PRESSO LA SCUOLA STEINER DI TRENTO. \nINGRESSO LIBERO \nEventuali offerte saranno destinate alla Scuola Primaria di Posina e al Progetto Educativo “Un germoglio tra i boschi”.
URL:https://consorzioprolocoaap.it/evento/concerto-aspettando-il-natale/
LOCATION:Posina\, Posina\, Vicenza\, Italy
CATEGORIES:Attività culturali,Feste e festività,Musica
ATTACH;FMTTYPE=image/jpeg:https://consorzioprolocoaap.it/wp-content/uploads/2025/11/Aspettando-il-Natale-Posina.jpeg
ORGANIZER;CN="Pro Loco Posina":MAILTO:prolocoposina1@gmail.com
END:VEVENT
BEGIN:VEVENT
DTSTART;TZID=Europe/Rome:20251011T160000
DTEND;TZID=Europe/Rome:20251011T233000
DTSTAMP:20260419T212625
CREATED:20250930T194213Z
LAST-MODIFIED:20250930T194213Z
UID:788-1760198400-1760225400@consorzioprolocoaap.it
SUMMARY:MOTOR DAY • COGOLLO DEL CENGIO
DESCRIPTION:MOTOGROSS RACE-MUSIC-SHOWGIRL \nDRINK AND FOOD
URL:https://consorzioprolocoaap.it/evento/motor-day-cogollo-del-cengio/
LOCATION:Cogollo del Cengio – Impianti sportivi\, Via S. Cristoforo\, Cogollo del Cengio\, 36010\, Italy
CATEGORIES:Musica
ATTACH;FMTTYPE=image/jpeg:https://consorzioprolocoaap.it/wp-content/uploads/2025/09/Motor-Day-11-ottobre-25.jpg
ORGANIZER;CN="Pro Loco Cogollo del Cengio":MAILTO:proloco.cogollodelcengio@gmail.com
END:VEVENT
BEGIN:VEVENT
DTSTART;TZID=Europe/Rome:20250803T210000
DTEND;TZID=Europe/Rome:20250803T223000
DTSTAMP:20260419T212625
CREATED:20250729T044156Z
LAST-MODIFIED:20250729T044156Z
UID:738-1754254800-1754260200@consorzioprolocoaap.it
SUMMARY:Concerto d'agosto a lume di candela
DESCRIPTION:Musiche e brani di: \nMORRICONE \nCOHEN \nMOZART \nMASCAGNI \nBEETHOVEN \nPAUL SIMON \nBOCELLI \nInterpreti: \nMASSIMO LAMBERTINI (PIANOFORTE) \nNATIA BERDZENISHVILI (SOPRANO) \nDOMENICA 3 AGOSTO – ore 21.00 \nChiesa Parrocchiale S. Margherita – POSINA \nINGRESSO LIBERO
URL:https://consorzioprolocoaap.it/evento/concerto-dagosto-a-lume-di-candela/
LOCATION:Posina\, Posina\, Vicenza\, Italy
CATEGORIES:Attività culturali,Musica
ATTACH;FMTTYPE=image/jpeg:https://consorzioprolocoaap.it/wp-content/uploads/2025/07/concerto-dagosto-Posina-25.jpeg
ORGANIZER;CN="Pro Loco Posina":MAILTO:prolocoposina1@gmail.com
END:VEVENT
BEGIN:VEVENT
DTSTART;TZID=Europe/Rome:20250801T190000
DTEND;TZID=Europe/Rome:20250802T233000
DTSTAMP:20260419T212625
CREATED:20250721T201146Z
LAST-MODIFIED:20250721T201146Z
UID:719-1754074800-1754177400@consorzioprolocoaap.it
SUMMARY:Summer Party
DESCRIPTION:
URL:https://consorzioprolocoaap.it/evento/summer-party/
LOCATION:Velo d’Astico\, Velo d'Astico\, Vicenza\, Italy
CATEGORIES:Musica
ATTACH;FMTTYPE=image/jpeg:https://consorzioprolocoaap.it/wp-content/uploads/2025/07/Summer-party-1-2-agosto-2025.jpeg
END:VEVENT
BEGIN:VEVENT
DTSTART;TZID=Europe/Rome:20250710T190000
DTEND;TZID=Europe/Rome:20250713T233000
DTSTAMP:20260419T212625
CREATED:20250706T204207Z
LAST-MODIFIED:20250706T204207Z
UID:670-1752174000-1752449400@consorzioprolocoaap.it
SUMMARY:Sagra di San Barnaba
DESCRIPTION:
URL:https://consorzioprolocoaap.it/evento/sagra-di-san-barnaba/
LOCATION:Laghi\, Laghi\, Vicenza\, Italy
CATEGORIES:Enogastronomia,Musica,Sport
ATTACH;FMTTYPE=application/pdf:https://consorzioprolocoaap.it/wp-content/uploads/2025/07/San-Barnaba2025.pdf
ORGANIZER;CN="Pro Loco Laghi":MAILTO:prolocolaghi@alice.it
END:VEVENT
END:VCALENDAR