BEGIN:VCALENDAR
VERSION:2.0
PRODID:-//Consorzio Pro Loco Alto Astico e Posina - ECPv6.14.0//NONSGML v1.0//EN
CALSCALE:GREGORIAN
METHOD:PUBLISH
X-ORIGINAL-URL:https://consorzioprolocoaap.it
X-WR-CALDESC:Eventi per Consorzio Pro Loco Alto Astico e Posina
REFRESH-INTERVAL;VALUE=DURATION:PT1H
X-Robots-Tag:noindex
X-PUBLISHED-TTL:PT1H
BEGIN:VTIMEZONE
TZID:Europe/Rome
BEGIN:DAYLIGHT
TZOFFSETFROM:+0100
TZOFFSETTO:+0200
TZNAME:CEST
DTSTART:20250330T010000
END:DAYLIGHT
BEGIN:STANDARD
TZOFFSETFROM:+0200
TZOFFSETTO:+0100
TZNAME:CET
DTSTART:20251026T010000
END:STANDARD
BEGIN:DAYLIGHT
TZOFFSETFROM:+0100
TZOFFSETTO:+0200
TZNAME:CEST
DTSTART:20260329T010000
END:DAYLIGHT
BEGIN:STANDARD
TZOFFSETFROM:+0200
TZOFFSETTO:+0100
TZNAME:CET
DTSTART:20261025T010000
END:STANDARD
END:VTIMEZONE
BEGIN:VEVENT
DTSTART;TZID=Europe/Rome:20260228T183000
DTEND;TZID=Europe/Rome:20260228T220000
DTSTAMP:20260419T213030
CREATED:20260223T204316Z
LAST-MODIFIED:20260223T204316Z
UID:893-1772303400-1772316000@consorzioprolocoaap.it
SUMMARY:Ciamàr Marso - Posina 2026
DESCRIPTION:ore 18.30 \nSTAND GASTRONOMICO in ambiente riscaldato \nCON: POLENTA\, CRAUTI\, COTECHINO E TANTA BIRRA PIATTO BABY – ALETTE DI POLLO E PATATINE \nINTRATTENIMENTO MUSICALE by RAZZO DJ \nore 20.00 \nRitrovo in via Macello muniti di campanacci e quant’altro ben accetti costumi tipici e storici \nTRADIZIONALE SFILATA PER IL PAESE presso Impianti Sportivi \nACCENSIONE FALÒ e PENTOLACCE \nper i bambini Cioccolata e vin brulé per i presenti \nSTAND GASTRONOMICO APERTO ANCHE DOPO LA SFILATA
URL:https://consorzioprolocoaap.it/evento/ciamar-marso-posina-2026/
LOCATION:Posina\, Posina\, Vicenza\, Italy
CATEGORIES:Attività culturali,Enogastronomia,Feste e festività,Rievocazione storica
ATTACH;FMTTYPE=image/jpeg:https://consorzioprolocoaap.it/wp-content/uploads/2026/02/Ciamar-Marso-Posina-26.jpeg
ORGANIZER;CN="Pro Loco Posina":MAILTO:prolocoposina1@gmail.com
END:VEVENT
BEGIN:VEVENT
DTSTART;TZID=Europe/Rome:20251017T080000
DTEND;TZID=Europe/Rome:20251019T180000
DTSTAMP:20260419T213030
CREATED:20250921T080953Z
LAST-MODIFIED:20250930T194423Z
UID:768-1760688000-1760896800@consorzioprolocoaap.it
SUMMARY:Il Ritorno dal Bosco
DESCRIPTION:Ritornano gli uomini e gli animali.Ritornano gerle\, scalà\, barele\, barossi\, slite\, seghe e segoni.Ritornano strie\, orchi\, anguane e salbanei.Ritorna il bosco che ormai non c’è più.La Val d’Astico si trasforma mostrandosi in piazza com’era
URL:https://consorzioprolocoaap.it/evento/il-ritorno-dal-bosco/
LOCATION:San  Pietro Valdastico\, via carlo alberto\, san pietro valdastico
CATEGORIES:Attività culturali,Enogastronomia,Rievocazione storica
ATTACH;FMTTYPE=image/jpeg:https://consorzioprolocoaap.it/wp-content/uploads/2025/09/ritorno-dal-bosco-2025.jpeg
ORGANIZER;CN="Pro Loco San Pietro Vadastico":MAILTO:prolocovaldastico@libero.it
END:VEVENT
END:VCALENDAR